BEGIN:VCALENDAR
VERSION:2.0
PRODID:-//Tukios.com/
BEGIN:VEVENT
UID:a4ec2c79-0a90-43a0-bd94-23794cb86d3c@www.combrefuneralhome.com
DTSTAMP:20260424T225003Z
DTSTART:20260502T130000Z
DTEND:20260502T151500Z
SUMMARY:Visitation
DESCRIPTION:
URL:https://www.combrefuneralhome.com/obituaries/linda-semien
LOCATION: 1200 Mill St  Lake Charles LA 70601
GEO:30.231542;-93.2039837
END:VEVENT
END:VCALENDAR