BEGIN:VCALENDAR
VERSION:2.0
PRODID:-//Tukios.com/
BEGIN:VEVENT
UID:d046fbe8-159d-4b86-8cdf-e81347c9acf7@www.combrefuneralhome.com
DTSTAMP:20260424T224747Z
DTSTART:20260502T153000Z
DTEND:20260502T163000Z
SUMMARY:Funeral Service
DESCRIPTION:
URL:https://www.combrefuneralhome.com/obituaries/linda-semien
LOCATION: 2031 Opelousas Street  Lake Charles LA 70601
GEO:30.2426481;-93.1911708
END:VEVENT
END:VCALENDAR